BEGIN:VCALENDAR
VERSION:2.0
PRODID:-//wp-events-plugin.com//7.2.3.1//EN
TZID:Europe/Berlin
X-WR-TIMEZONE:Europe/Berlin
BEGIN:VEVENT
UID:157@kolping-schoeppenstedt.de
DTSTART;TZID=Europe/Berlin:20260501T100000
DTEND;TZID=Europe/Berlin:20260501T180000
DTSTAMP:20251224T094241Z
URL:https://kolping-schoeppenstedt.de/veranstaltungen/maibaumfest-auf-dem-
 marktplatz/
SUMMARY:Maibaumfest auf dem Marktplatz
DESCRIPTION:Maibaumfest auf dem Marktplatz.\n\nWir nehmen mit unserem Schwe
 nkgrill an der Schöppenstedter Maifeier teil. Treffen zum Verladen und Au
 fbau des Standes um 10:00 Uhr im Pfarrgarten.
ATTACH;FMTTYPE=image/jpeg:https://kolping-schoeppenstedt.de/wp-content/upl
 oads/2025/12/Tanz_in_den_Mai.jpg
LOCATION:Schöppenstedt Markt\, Markt\, Schöppenstedt\, Niedersachsen\, 38
 170\, Deutschland
X-APPLE-STRUCTURED-LOCATION;VALUE=URI;X-ADDRESS=Markt\, Schöppenstedt\, Ni
 edersachsen\, 38170\, Deutschland;X-APPLE-RADIUS=100;X-TITLE=Schöppensted
 t Markt:geo:0,0
END:VEVENT
BEGIN:VTIMEZONE
TZID:Europe/Berlin
X-LIC-LOCATION:Europe/Berlin
BEGIN:DAYLIGHT
DTSTART:20260329T030000
TZOFFSETFROM:+0100
TZOFFSETTO:+0200
TZNAME:CEST
END:DAYLIGHT
END:VTIMEZONE
END:VCALENDAR