BEGIN:VCALENDAR
VERSION:2.0
PRODID:-//wp-events-plugin.com//7.2.3.1//EN
TZID:Europe/Berlin
X-WR-TIMEZONE:Europe/Berlin
BEGIN:VEVENT
UID:176@kolping-schoeppenstedt.de
DTSTART;TZID=Europe/Berlin:20260514T110000
DTEND;TZID=Europe/Berlin:20260514T170000
DTSTAMP:20260330T231645Z
URL:https://kolping-schoeppenstedt.de/veranstaltungen/junge-erwachsene-fam
 ilienfest-zu-christi-himmelfahrt/
SUMMARY:Junge Erwachsene: Familienfest zu Christi Himmelfahrt
DESCRIPTION:Familienfest zu Christi Himmelfahrt\n\nWir feiern unser Familie
 nfest zu Christ Himmelfahrt im Pfarrgarten mit Gegrilltem\, Kaffee und Kuc
 hen\, Hüpfburg\, Spielen für Kinder.\nDas Fest beginnt mit der Hl. Messe
 .\n\nGäste sind herzlich willkommen!
ATTACH;FMTTYPE=image/jpeg:https://kolping-schoeppenstedt.de/wp-content/upl
 oads/2024/01/Hipp-Hipp-Hurra-By-Peder-Severin-Kroyer-2400px.png
LOCATION:Kath. Kirche Schöppenstedt\, Neue Straße 6\, Schöppenstedt\, Ni
 edersachsen\, 38170\, Landkreis Wolfenbüttel\, Deutschland
GEO:52.14274;10.77516
X-APPLE-STRUCTURED-LOCATION;VALUE=URI;X-ADDRESS=Neue Straße 6\, Schöppens
 tedt\, Niedersachsen\, 38170\, Landkreis Wolfenbüttel\, Deutschland;X-APP
 LE-RADIUS=100;X-TITLE=Kath. Kirche Schöppenstedt:geo:52.14274,10.77516
END:VEVENT
BEGIN:VTIMEZONE
TZID:Europe/Berlin
X-LIC-LOCATION:Europe/Berlin
BEGIN:DAYLIGHT
DTSTART:20260329T030000
TZOFFSETFROM:+0100
TZOFFSETTO:+0200
TZNAME:CEST
END:DAYLIGHT
END:VTIMEZONE
END:VCALENDAR