BEGIN:VCALENDAR
VERSION:2.0
PRODID:-//wp-events-plugin.com//7.2.3.1//EN
TZID:Europe/Berlin
X-WR-TIMEZONE:Europe/Berlin
BEGIN:VEVENT
UID:160@kolping-schoeppenstedt.de
DTSTART;TZID=Europe/Berlin:20260513T160000
DTEND;TZID=Europe/Berlin:20260513T190000
DTSTAMP:20251224T094315Z
URL:https://kolping-schoeppenstedt.de/veranstaltungen/aufbau-familienfest/
SUMMARY:Aufbau Familienfest
DESCRIPTION:Aufbau Familienfest\n\nVorbereitung des Pfarrgartens  und Auf
 bau der Zelte und Stände  für das Familienfest.\n\nHelfer sind herzlic
 h willkommen!
ATTACH;FMTTYPE=image/jpeg:https://kolping-schoeppenstedt.de/wp-content/upl
 oads/2025/02/team-at-work-300px.png
LOCATION:Kath. Kirche Schöppenstedt\, Neue Straße 6\, Schöppenstedt\, Ni
 edersachsen\, 38170\, Landkreis Wolfenbüttel\, Deutschland
GEO:52.14274;10.77516
X-APPLE-STRUCTURED-LOCATION;VALUE=URI;X-ADDRESS=Neue Straße 6\, Schöppens
 tedt\, Niedersachsen\, 38170\, Landkreis Wolfenbüttel\, Deutschland;X-APP
 LE-RADIUS=100;X-TITLE=Kath. Kirche Schöppenstedt:geo:52.14274,10.77516
END:VEVENT
BEGIN:VTIMEZONE
TZID:Europe/Berlin
X-LIC-LOCATION:Europe/Berlin
BEGIN:DAYLIGHT
DTSTART:20260329T030000
TZOFFSETFROM:+0100
TZOFFSETTO:+0200
TZNAME:CEST
END:DAYLIGHT
END:VTIMEZONE
END:VCALENDAR